BEGIN:VCALENDAR
METHOD:PUBLISH
PRODID:Data::ICal 0.13
VERSION:2.0
BEGIN:VEVENT
DESCRIPTION:🔥 SUMMER JAM 2025 🔥\nPull up Friday, June 27th at Gainbridge Fieldhouse for the hottest show of the summer! 🎤💥Catch GloRilla, Bossman Dlow, Skilla Baby, Jacquees, Big Boogie, and Queen Key all on one stage ‼️You don’t wanna miss this energy 💃🏾🕺🏽🎶 \nSUMMER JAM PRESALE CODE SUMMER\nSkip the line and use our PRE-SALE CODE to get your tickets for SUMMER JAM on June 27th at Gainbridge Fieldhouse! \n🎟️ Tickets available now at Ticketmaster#SummerJam2025 #IndyTurnUp #GainbridgeFieldhouse #GloRilla #BossmanDlow #SkillaBaby #Jacquees #BigBoogie #QueenKey \n \nCheck Out Their Setlists Below \nGlorilla Summer Jam: Setlist \nBossman Dlow Summer Jam: Setlist \nJacquees Summer Jam: Setlist \nSkilla Baby Summer Jam 2025: Setlist \nQueen Key Summer Jam: Setlist \nBig Boogie Summer Jam: Setlist \nGlorilla: Top 10 Collaborations \nBossman Dlow: Top 10 Music Videos \nTop Jacquees Music Videos You Need to See Right Now \nTop Big Boogie Music Videos You Need to See Right Now \nTop Queen Key Music Videos You Need to See Right Now \nTop Skilla Baby Music Videos You Need to See Right Now \nMeet Queen Key: The Rising Star Breaking All the Rules \nGloRilla Big Boogie &amp;amp; More: Meet the Top 10 Rappers Putting Memphis on the Map
DTSTAMP:20260425T020128Z
DTSTART;TZID=America/New_York:20250627T190000
DTEND;TZID=America/New_York:20250627T190000
LOCATION:Indianapolis\, IN
SUMMARY:Summer Jam 2025: Glorilla, Bossman Dlow, Jacquees, Skilla Baby, Queen Key, &amp; Big Boogie
UID:4287319-1751050800-1751050800
END:VEVENT
END:VCALENDAR
